Back to Multiple platform build/check report for BioC 3.10
[A]BCDEFGHIJKLMNOPQRSTUVWXYZ

Multiple platform build/check report for BioC 3.10

Results for appreci8R

This page was generated on 2020-04-06 11:59:01 -0400 (Mon, 06 Apr 2020).

Package 75/1823HostnameOS / ArchINSTALLBUILDCHECKBUILD BIN
appreci8R 1.4.0
Sarah Sandmann
Snapshot Date: 2020-04-05 16:45:51 -0400 (Sun, 05 Apr 2020)
URL: https://git.bioconductor.org/packages/appreci8R
Branch: RELEASE_3_10
Last Commit: ba9885a
Last Changed Date: 2019-10-29 13:11:16 -0400 (Tue, 29 Oct 2019)
malbec1 Linux (Ubuntu 18.04.4 LTS) / x86_64  OK  OK  OK UNNEEDED, same version exists in internal repository
tokay1 Windows Server 2012 R2 Standard / x64  OK  OK  OK  OK UNNEEDED, same version exists in internal repository
merida1 OS X 10.11.6 El Capitan / x86_64  OK  OK  OK  OK UNNEEDED, same version exists in internal repository