Back to Multiple platform build/check report for BioC 3.10
ABCDEFGHIJKLMNOPQRSTUV[W]XYZ

Multiple platform build/check report for BioC 3.10

Results for Wrench

This page was generated on 2020-04-05 12:27:12 -0400 (Sun, 05 Apr 2020).

Package 1807/1823HostnameOS / ArchINSTALLBUILDCHECKBUILD BIN
Wrench 1.4.0
Hector Corrada Bravo
Snapshot Date: 2020-04-04 16:46:08 -0400 (Sat, 04 Apr 2020)
URL: https://git.bioconductor.org/packages/Wrench
Branch: RELEASE_3_10
Last Commit: 9f992d5
Last Changed Date: 2019-10-29 13:11:25 -0400 (Tue, 29 Oct 2019)
malbec1 Linux (Ubuntu 18.04.4 LTS) / x86_64  OK  OK  OK UNNEEDED, same version exists in internal repository
tokay1 Windows Server 2012 R2 Standard / x64  OK  OK  OK  OK UNNEEDED, same version exists in internal repository
merida1 OS X 10.11.6 El Capitan / x86_64  OK  OK  OK  OK UNNEEDED, same version exists in internal repository