Back to Multiple platform build/check report for BioC 3.10
ABCDEFGHIJKLMNOPQR[S]TUVWXYZ

Multiple platform build/check report for BioC 3.10

Results for SplicingGraphs

This page was generated on 2020-04-01 11:57:46 -0400 (Wed, 01 Apr 2020).

Package 1647/1823HostnameOS / ArchINSTALLBUILDCHECKBUILD BIN
SplicingGraphs 1.26.1
H. Pag├Ęs
Snapshot Date: 2020-03-31 16:45:50 -0400 (Tue, 31 Mar 2020)
URL: https://git.bioconductor.org/packages/SplicingGraphs
Branch: RELEASE_3_10
Last Commit: 42f49b4
Last Changed Date: 2019-11-20 00:45:12 -0400 (Wed, 20 Nov 2019)
malbec1 Linux (Ubuntu 18.04.4 LTS) / x86_64  OK  OK  WARNINGS UNNEEDED, same version exists in internal repository
tokay1 Windows Server 2012 R2 Standard / x64  OK  OK  WARNINGS  OK UNNEEDED, same version exists in internal repository
merida1 OS X 10.11.6 El Capitan / x86_64  OK  OK  WARNINGS  OK UNNEEDED, same version exists in internal repository