Back to Multiple platform build/check report for BioC 3.10
ABCDEFGHIJKLMNOPQR[S]TUVWXYZ

Multiple platform build/check report for BioC 3.10

Results for SWATH2stats

This page was generated on 2020-04-06 12:02:02 -0400 (Mon, 06 Apr 2020).

Package 1692/1823HostnameOS / ArchINSTALLBUILDCHECKBUILD BIN
SWATH2stats 1.16.0
Peter Blattmann
Snapshot Date: 2020-04-05 16:45:51 -0400 (Sun, 05 Apr 2020)
URL: https://git.bioconductor.org/packages/SWATH2stats
Branch: RELEASE_3_10
Last Commit: a6faa31
Last Changed Date: 2019-10-29 13:09:28 -0400 (Tue, 29 Oct 2019)
malbec1 Linux (Ubuntu 18.04.4 LTS) / x86_64  OK  OK  OK UNNEEDED, same version exists in internal repository
tokay1 Windows Server 2012 R2 Standard / x64  OK  OK  OK  OK UNNEEDED, same version exists in internal repository
merida1 OS X 10.11.6 El Capitan / x86_64  OK  OK  OK  OK UNNEEDED, same version exists in internal repository