Back to Multiple platform build/check report for BioC 3.10
ABCDEFGHIJKLMNOPQR[S]TUVWXYZ

Multiple platform build/check report for BioC 3.10

Results for SCBN

This page was generated on 2020-04-01 11:57:18 -0400 (Wed, 01 Apr 2020).

Package 1526/1823HostnameOS / ArchINSTALLBUILDCHECKBUILD BIN
SCBN 1.4.0
Yan Zhou
Snapshot Date: 2020-03-31 16:45:50 -0400 (Tue, 31 Mar 2020)
URL: https://git.bioconductor.org/packages/SCBN
Branch: RELEASE_3_10
Last Commit: 96f8985
Last Changed Date: 2019-10-29 13:11:18 -0400 (Tue, 29 Oct 2019)
malbec1 Linux (Ubuntu 18.04.4 LTS) / x86_64  OK  OK  OK UNNEEDED, same version exists in internal repository
tokay1 Windows Server 2012 R2 Standard / x64  OK  OK  OK  OK UNNEEDED, same version exists in internal repository
merida1 OS X 10.11.6 El Capitan / x86_64  OK  OK  OK  OK UNNEEDED, same version exists in internal repository