Back to Multiple platform build/check report for BioC 3.10
ABCDEFGHIJKLMNOPQ[R]STUVWXYZ

Multiple platform build/check report for BioC 3.10

Results for REMP

This page was generated on 2020-04-01 11:56:54 -0400 (Wed, 01 Apr 2020).

Package 1411/1823HostnameOS / ArchINSTALLBUILDCHECKBUILD BIN
REMP 1.10.0
Yinan Zheng
Snapshot Date: 2020-03-31 16:45:50 -0400 (Tue, 31 Mar 2020)
URL: https://git.bioconductor.org/packages/REMP
Branch: RELEASE_3_10
Last Commit: 3d0df87
Last Changed Date: 2019-10-29 13:10:17 -0400 (Tue, 29 Oct 2019)
malbec1 Linux (Ubuntu 18.04.4 LTS) / x86_64  OK  ERROR  skipped 
tokay1 Windows Server 2012 R2 Standard / x64  OK  OK  OK  OK UNNEEDED, same version exists in internal repository
merida1 OS X 10.11.6 El Capitan / x86_64  OK  OK  OK  OK UNNEEDED, same version exists in internal repository