Back to Multiple platform build/check report for BioC 3.10
ABCDEFGHIJKLMNO[P]QRSTUVWXYZ

Multiple platform build/check report for BioC 3.10

Results for PCAN

This page was generated on 2020-02-16 12:20:54 -0500 (Sun, 16 Feb 2020).

Package 1237/1823HostnameOS / ArchINSTALLBUILDCHECKBUILD BIN
PCAN 1.14.0
Matthew Page and Patrice Godard
Snapshot Date: 2020-02-15 16:45:44 -0500 (Sat, 15 Feb 2020)
URL: https://git.bioconductor.org/packages/PCAN
Branch: RELEASE_3_10
Last Commit: 65380e6
Last Changed Date: 2019-10-29 13:09:35 -0500 (Tue, 29 Oct 2019)
malbec1 Linux (Ubuntu 18.04.3 LTS) / x86_64  OK  OK  OK UNNEEDED, same version exists in internal repository
tokay1 Windows Server 2012 R2 Standard / x64  OK  OK  OK  OK UNNEEDED, same version exists in internal repository
merida1 OS X 10.11.6 El Capitan / x86_64  OK  OK  OK  OK UNNEEDED, same version exists in internal repository