Back to Multiple platform build/check report for BioC 3.10
ABCDEFGH[I]JKLMNOPQRSTUVWXYZ

Multiple platform build/check report for BioC 3.10

Results for IsoformSwitchAnalyzeR

This page was generated on 2020-04-01 11:55:19 -0400 (Wed, 01 Apr 2020).

Package 869/1823HostnameOS / ArchINSTALLBUILDCHECKBUILD BIN
IsoformSwitchAnalyzeR 1.8.0
Kristoffer Vitting-Seerup
Snapshot Date: 2020-03-31 16:45:50 -0400 (Tue, 31 Mar 2020)
URL: https://git.bioconductor.org/packages/IsoformSwitchAnalyzeR
Branch: RELEASE_3_10
Last Commit: 2ad64ab
Last Changed Date: 2019-10-29 13:10:29 -0400 (Tue, 29 Oct 2019)
malbec1 Linux (Ubuntu 18.04.4 LTS) / x86_64  OK  OK  OK UNNEEDED, same version exists in internal repository
tokay1 Windows Server 2012 R2 Standard / x64  OK  OK  OK  OK UNNEEDED, same version exists in internal repository
merida1 OS X 10.11.6 El Capitan / x86_64  OK  OK  OK  OK UNNEEDED, same version exists in internal repository