Back to Multiple platform build/check report for BioC 3.10
ABCDEF[G]HIJKLMNOPQRSTUVWXYZ

Multiple platform build/check report for BioC 3.10

Results for GeneExpressionSignature

This page was generated on 2020-04-05 12:23:04 -0400 (Sun, 05 Apr 2020).

Package 651/1823HostnameOS / ArchINSTALLBUILDCHECKBUILD BIN
GeneExpressionSignature 1.32.0
Yang Cao , Fei Li
Snapshot Date: 2020-04-04 16:46:08 -0400 (Sat, 04 Apr 2020)
URL: https://git.bioconductor.org/packages/GeneExpressionSignature
Branch: RELEASE_3_10
Last Commit: 6afd2c0
Last Changed Date: 2019-10-29 13:08:22 -0400 (Tue, 29 Oct 2019)
malbec1 Linux (Ubuntu 18.04.4 LTS) / x86_64  OK  OK  OK UNNEEDED, same version exists in internal repository
tokay1 Windows Server 2012 R2 Standard / x64  OK  OK  OK  OK UNNEEDED, same version exists in internal repository
merida1 OS X 10.11.6 El Capitan / x86_64  OK  OK  OK  OK UNNEEDED, same version exists in internal repository