Back to Multiple platform build/check report for BioC 3.10
ABCDEF[G]HIJKLMNOPQRSTUVWXYZ

Multiple platform build/check report for BioC 3.10

Results for GenVisR

This page was generated on 2020-04-06 11:59:39 -0400 (Mon, 06 Apr 2020).

Package 693/1823HostnameOS / ArchINSTALLBUILDCHECKBUILD BIN
GenVisR 1.18.1
Zachary Skidmore
Snapshot Date: 2020-04-05 16:45:51 -0400 (Sun, 05 Apr 2020)
URL: https://git.bioconductor.org/packages/GenVisR
Branch: RELEASE_3_10
Last Commit: 827ef01
Last Changed Date: 2019-10-30 10:24:24 -0400 (Wed, 30 Oct 2019)
malbec1 Linux (Ubuntu 18.04.4 LTS) / x86_64  OK  OK  ERROR 
tokay1 Windows Server 2012 R2 Standard / x64  OK  OK  ERROR  OK 
merida1 OS X 10.11.6 El Capitan / x86_64  OK  OK  ERROR  OK