Back to Multiple platform build/check report for BioC 3.10
ABCD[E]FGHIJKLMNOPQRSTUVWXYZ

Multiple platform build/check report for BioC 3.10

Results for EBImage

This page was generated on 2020-04-15 12:00:48 -0400 (Wed, 15 Apr 2020).

Package 500/1823HostnameOS / ArchINSTALLBUILDCHECKBUILD BIN
EBImage 4.28.1
Andrzej OleĊ›
Snapshot Date: 2020-04-14 16:46:13 -0400 (Tue, 14 Apr 2020)
URL: https://git.bioconductor.org/packages/EBImage
Branch: RELEASE_3_10
Last Commit: 7b7ed31
Last Changed Date: 2019-12-02 10:33:54 -0400 (Mon, 02 Dec 2019)
malbec1 Linux (Ubuntu 18.04.4 LTS) / x86_64  OK  OK  OK UNNEEDED, same version exists in internal repository
tokay1 Windows Server 2012 R2 Standard / x64  OK  OK  OK  OK UNNEEDED, same version exists in internal repository
merida1 OS X 10.11.6 El Capitan / x86_64  OK  OK  OK  OK UNNEEDED, same version exists in internal repository