Back to Multiple platform build/check report for BioC 3.10
A[B]CDEFGHIJKLMNOPQRSTUVWXYZ

Multiple platform build/check report for BioC 3.10

Results for BiocParallel

This page was generated on 2020-01-17 11:57:06 -0500 (Fri, 17 Jan 2020).

Package 156/1823HostnameOS / ArchINSTALLBUILDCHECKBUILD BIN
BiocParallel 1.20.1
Bioconductor Package Maintainer
Snapshot Date: 2020-01-16 16:45:11 -0500 (Thu, 16 Jan 2020)
URL: https://git.bioconductor.org/packages/BiocParallel
Branch: RELEASE_3_10
Last Commit: 374b87c
Last Changed Date: 2019-12-20 17:35:14 -0500 (Fri, 20 Dec 2019)
malbec1 Linux (Ubuntu 18.04.3 LTS) / x86_64  OK  OK  OK UNNEEDED, same version exists in internal repository
tokay1 Windows Server 2012 R2 Standard / x64  OK  OK  OK  OK UNNEEDED, same version exists in internal repository
merida1 OS X 10.11.6 El Capitan / x86_64  OK  OK  OK  OK UNNEEDED, same version exists in internal repository