arrayQualityMetrics 3.5.8 Audrey Kauffmann
Snapshot Date: 2011-02-24 11:26:35 -0800 (Thu, 24 Feb 2011) | URL: https://hedgehog.fhcrc.org/bioconductor/trunk/madman/Rpacks/arrayQualityMetrics | Last Changed Rev: 53240 / Revision: 53255 | Last Changed Date: 2011-02-23 16:24:02 -0800 (Wed, 23 Feb 2011) |
| lamb2 | Linux (openSUSE 11.2) / x86_64 | OK | OK | |
liverpool | Windows Server 2003 R2 (32-bit) / x64 | OK | WARNINGS | [ OK ] |
gewurz | Windows Server 2008 R2 Enterprise (64-bit) / x64 | N O T S U P P O R T E D |
pelham | Mac OS X Leopard (10.5.8) / i386 | OK | OK | OK |
petty | Mac OS X Snow Leopard (10.6.4) / i386 | OK | OK | OK |
* installing *source* package 'arrayQualityMetrics' ...
** R
** inst
** preparing package for lazy loading
Loading required package: Biobase
Welcome to Bioconductor
Vignettes contain introductory material. To view, type
'browseVignettes()'. To cite Bioconductor, see
'citation("Biobase")' and for packages 'citation(pkgname)'.
Creating a new generic function for "boxplot" in "affyPLM"
Creating a new generic function for "hist" in "affyPLM"
** help
*** installing help indices
** building package indices ...
** testing if installed package can be loaded
* MD5 sums
packaged installation of 'arrayQualityMetrics' as arrayQualityMetrics_3.5.8.zip
* DONE (arrayQualityMetrics)