qpgraph 1.4.1 Robert Castelo
Snapshot Date: 2010-10-04 11:22:20 -0700 (Mon, 04 Oct 2010) | URL: https://hedgehog.fhcrc.org/bioconductor/branches/RELEASE_2_6/madman/Rpacks/qpgraph | Last Changed Rev: 46669 / Revision: 49923 | Last Changed Date: 2010-05-03 13:15:30 -0700 (Mon, 03 May 2010) |
| wilson1 | Linux (openSUSE 11.1) / x86_64 | [ OK ] | OK | |
liverpool | Windows Server 2003 R2 (32-bit) / x64 | OK | OK | OK |
gewurz | Windows Server 2008 R2 Enterprise (64-bit) / x64 | OK | OK | OK |
pelham | Mac OS X Leopard (10.5.8) / i386 | OK | OK | OK |
* checking for file 'qpgraph/DESCRIPTION' ... OK
* preparing 'qpgraph':
* checking DESCRIPTION meta-information ... OK
* cleaning src
* running cleanup
* installing the package to re-build vignettes
* installing *source* package 'qpgraph' ...
checking for gcc... gcc
checking for C compiler default output file name... a.out
checking whether the C compiler works... yes
checking whether we are cross compiling... no
checking for suffix of executables...
checking for suffix of object files... o
checking whether we are using the GNU C compiler... yes
checking whether gcc accepts -g... yes
checking for gcc option to accept ANSI C... none needed
checking build system type... x86_64-unknown-linux-gnu
checking host system type... x86_64-unknown-linux-gnu
configure: creating ./config.status
config.status: creating src/Makevars
** libs
gcc -std=gnu99 -I/home/biocbuild/bbs-2.6-bioc/R/include -I/usr/local/include -I/usr/local/include -g -O2 -Wall -pedantic -fpic -g -O2 -c cliquer.c -o cliquer.o
gcc -std=gnu99 -I/home/biocbuild/bbs-2.6-bioc/R/include -I/usr/local/include -I/usr/local/include -g -O2 -Wall -pedantic -fpic -g -O2 -c graph.c -o graph.o
gcc -std=gnu99 -I/home/biocbuild/bbs-2.6-bioc/R/include -I/usr/local/include -I/usr/local/include -g -O2 -Wall -pedantic -fpic -g -O2 -c qpgraph.c -o qpgraph.o
gcc -std=gnu99 -I/home/biocbuild/bbs-2.6-bioc/R/include -I/usr/local/include -I/usr/local/include -g -O2 -Wall -pedantic -fpic -g -O2 -c reorder.c -o reorder.o
gcc -std=gnu99 -shared -L/usr/local/lib64 -o qpgraph.so cliquer.o graph.o qpgraph.o reorder.o -L/home/biocbuild/bbs-2.6-bioc/R/lib -lRblas -L/home/biocbuild/bbs-2.6-bioc/R/lib -lRlapack -lgfortran -lm -L/home/biocbuild/bbs-2.6-bioc/R/lib -lR
installing to /tmp/Rinst2873580315/qpgraph/libs
** R
** data
** inst
** preparing package for lazy loading
Welcome to Bioconductor
Vignettes contain introductory material. To view, type
'openVignette()'. To cite Bioconductor, see
'citation("Biobase")' and for packages 'citation(pkgname)'.
** help
*** installing help indices
** building package indices ...
** testing if installed package can be loaded
* DONE (qpgraph)
* creating vignettes ... OK
* cleaning src
make: Nothing to be done for `clean'.
* running cleanup
* removing junk files
* checking for LF line-endings in source and make files
* checking for empty or unneeded directories
* building 'qpgraph_1.4.1.tar.gz'