faahKO 1.2.1 Colin A. Smith
Snapshot Date: 2009-08-10 00:27:00 -0700 (Mon, 10 Aug 2009) | URL: https://hedgehog.fhcrc.org/bioc-data/trunk/experiment/pkgs/faahKO | Last Changed Rev: 695 / Revision: 938 | Last Changed Date: 2008-07-16 14:26:39 -0700 (Wed, 16 Jul 2008) |
| wilson1 | Linux (openSUSE 11.1) / x86_64 | OK | OK | |
liverpool | Windows Server 2003 R2 (32-bit) / x64 | OK | OK | [ OK ] |
pitt | Mac OS X Tiger (10.4.11) / i386 | OK | OK | OK |
pelham | Mac OS X Leopard (10.5.7) / i386 | OK | OK | OK |
* Installing *source* package 'faahKO' ...
Using auto-selected zip options ''
** R
** data
** inst
** preparing package for lazy loading
** help
*** installing help indices
>>> Building/Updating help pages for package 'faahKO'
Formats: text html latex example chm
faahko text html latex example chm
Microsoft HTML Help Compiler 4.74.8702
Compiling e:\biocbld\bbs-2.4-data-experiment\tmpdir\RtmpV4c1dV\R.INSTALL678418be\faahKO\chm\faahKO.chm
Compile time: 0 minutes, 2 seconds
2 Topics
3 Local links
1 Internet link
1 Graphic
Created e:\biocbld\bbs-2.4-data-experiment\tmpdir\RtmpV4c1dV\R.INSTALL678418be\faahKO\chm\faahKO.chm, 17,603 bytes
Compression increased file by 8,999 bytes.
** building package indices ...
** MD5 sums
packaged installation of 'faahKO' as faahKO_1.2.1.zip
* DONE (faahKO)