Back to the "Multiple platform build/check report"
Package 199/234 | Hostname | OS | Arch | BUILD | CHECK | BUILD BIN |
sagenhaft 1.8.0 Tim Beissbarth Last Changed Date: 2007-10-04 18:59:04 -0700 Last Changed Rev: 27771 | lamb1 | Linux (SUSE 10.1) | x86_64 | OK | OK | |
wellington | Linux (SUSE 9.2) | i686 | OK | OK | ||
liverpool | Windows Server 2003 R2 (32-bit) | x64 | OK | OK | OK | |
pitt | Mac OS X (10.4.10) | i386 | OK | OK | [ OK ] |
Package: sagenhaft |
Version: 1.8.0 |
Command: /Users/biocbuild/BBS/utils/build-universal.sh sagenhaft_1.8.0.tar.gz /Library/Frameworks/R.framework/Resources/bin/R sagenhaft.buildbin-libdir |
RetCode: 0 |
Time: 7.0 seconds |
Status: OK |
PackageFile: sagenhaft_1.8.0.tgz |
INSTALLATION WITH 'R CMD INSTALL sagenhaft_1.8.0.tar.gz' * Installing to library 'sagenhaft.buildbin-libdir' * Installing *source* package 'sagenhaft' ... ** R ** data ** inst ** preparing package for lazy loading Loading required package: SparseM Package SparseM (0.73) loaded. To cite, see citation("SparseM") ** help >>> Building/Updating help pages for package 'sagenhaft' Formats: text html latex example error.correction text html latex example extract.lib text html latex example sage.library text html latex example sage.library.comparison text html latex example sage.test text html latex example sage.utilities text html latex example sagelibrary.simulate text html latex example ** building package indices ... * DONE (sagenhaft)