Back to Multiple platform build/check report
Package: sizepower |
Version: 1.2.0 |
Command: D:\biocbld\R-2.3.0\bin\R.exe CMD INSTALL --build sizepower_1.2.0.tar.gz |
RetCode: 0 |
Time: 8.5 seconds |
Status: OK |
PackageFile: sizepower_1.2.0.zip |
Using auto-selected zip options '' ---------- Making package sizepower ------------ adding build stamp to DESCRIPTION installing NAMESPACE file and metadata installing R files installing inst files installing man source files installing indices installing help >>> Building/Updating help pages for package 'sizepower' Formats: text html latex example chm powerMatched text html latex example chm powerMulti text html latex example chm powerRandomized text html latex example chm sampleSizeMatched text html latex example chm sampleSizeRandomized text html latex example chm Microsoft HTML Help Compiler 4.74.8702 Compiling d:\biocbld\work-area\1.8d\madman\Rpacks\R.INSTALL\sizepower\chm\sizepower.chm Compile time: 0 minutes, 0 seconds 6 Topics 30 Local links 5 Internet links 1 Graphic Created d:\biocbld\work-area\1.8d\madman\Rpacks\R.INSTALL\sizepower\chm\sizepower.chm, 21,503 bytes Compression decreased file by 5,038 bytes. adding MD5 sums packaged installation of package 'sizepower' as sizepower_1.2.0.zip * DONE (sizepower)